BEGIN:VCALENDAR
VERSION:2.0
PRODID:-//CHAMBER DASHBOARD//EVENTS CALENDAR2.0//EN
CALSCALE:GREGORIAN
BEGIN:VEVENT
DTEND:20191206T170000Z
UID:61a169203a046
DTSTAMP:20211126T230920Z
CATEGORIES:Community Events
LOCATION:Mary Jane Davies Green 220 Plandome Road, Manhasset, NY, 11030, United States
DESCRIPTION:Come down to Mary Jane Davies park for the festivities and announcement of the winners of our poster contest. Music begins at 4:15pm!
URL;VALUE=URI:https://manhassetny.org/event/tree-lighting-ceremony/
SUMMARY:TONH&#039\;s Tree Lighting Ceremony
DTSTART:20191206T160000Z
END:VEVENT
END:VCALENDAR
