BEGIN:VCALENDAR
VERSION:2.0
PRODID:-//CHAMBER DASHBOARD//EVENTS CALENDAR2.0//EN
CALSCALE:GREGORIAN
BEGIN:VEVENT
DTEND:20191125T180000Z
UID:61a17b8ebf1dc
DTSTAMP:20211127T002758Z
CATEGORIES:Community Events
LOCATION:People's Bank 384 Plandome Road Manhasset 
DESCRIPTION:Come down to People's Bank on Plandome Road and help the Chamber judge our annual holiday poster contest!
URL;VALUE=URI:https://manhassetny.org/event/holiday-poster-contest/
SUMMARY:Holiday Poster Contest
DTSTART:20191125T170000Z
END:VEVENT
END:VCALENDAR
