BEGIN:VCALENDAR
VERSION:2.0
PRODID:-//CHAMBER DASHBOARD//EVENTS CALENDAR2.0//EN
CALSCALE:GREGORIAN
BEGIN:VEVENT
DTEND:20200122T143000Z
UID:61a1795c86519
DTSTAMP:20211127T001836Z
CATEGORIES:Chamber Events
LOCATION:Plandome Country Club 145 Stonytown Road, Plandome, NY, 11030
DESCRIPTION:
URL;VALUE=URI:https://manhassetny.org/event/annual-installation-luncheon/
SUMMARY:Annual Installation Luncheon
DTSTART:20200122T123000Z
END:VEVENT
END:VCALENDAR
